BEGIN:VCALENDAR
VERSION:2.0
PRODID:-//Teqball Quebec - ECPv6.15.20//NONSGML v1.0//EN
CALSCALE:GREGORIAN
METHOD:PUBLISH
X-WR-CALNAME:Teqball Quebec
X-ORIGINAL-URL:https://teqball-quebec.ca
X-WR-CALDESC:Événements pour Teqball Quebec
REFRESH-INTERVAL;VALUE=DURATION:PT1H
X-Robots-Tag:noindex
X-PUBLISHED-TTL:PT1H
BEGIN:VTIMEZONE
TZID:America/Toronto
BEGIN:DAYLIGHT
TZOFFSETFROM:-0500
TZOFFSETTO:-0400
TZNAME:EDT
DTSTART:20230312T070000
END:DAYLIGHT
BEGIN:STANDARD
TZOFFSETFROM:-0400
TZOFFSETTO:-0500
TZNAME:EST
DTSTART:20231105T060000
END:STANDARD
BEGIN:DAYLIGHT
TZOFFSETFROM:-0500
TZOFFSETTO:-0400
TZNAME:EDT
DTSTART:20240310T070000
END:DAYLIGHT
BEGIN:STANDARD
TZOFFSETFROM:-0400
TZOFFSETTO:-0500
TZNAME:EST
DTSTART:20241103T060000
END:STANDARD
BEGIN:DAYLIGHT
TZOFFSETFROM:-0500
TZOFFSETTO:-0400
TZNAME:EDT
DTSTART:20250309T070000
END:DAYLIGHT
BEGIN:STANDARD
TZOFFSETFROM:-0400
TZOFFSETTO:-0500
TZNAME:EST
DTSTART:20251102T060000
END:STANDARD
END:VTIMEZONE
BEGIN:VEVENT
DTSTART;TZID=America/Toronto:20240324T100000
DTEND;TZID=America/Toronto:20240324T120000
DTSTAMP:20260424T222756
CREATED:20240319T023603Z
LAST-MODIFIED:20240319T023603Z
UID:1485-1711274400-1711281600@teqball-quebec.ca
SUMMARY:Teqball Entraînement libre
DESCRIPTION:Les Jeux de la Rue et Teqball Québec vous invitent a découvrir ce nouveau sport. Séance libre pour les 18ans et moins dans le gymnase de l’ecole Fernard-Seguin a Montreal\, où nos tables de Teqball seront présentes. Teqball Entraînement libre/table ouverte. Tentez votre chance ! Venez nous rejoindre\, vous ne le regretterez pas💯%.
URL:https://teqball-quebec.ca/event/teqball-entrainement-libre-8/
LOCATION:École primaire Fernand-Séguin\, 10 050\, avenue DurhamMontréal (Québec)\, Montreal\, Quebec\, H2C 2G3\, Canada
CATEGORIES:2024,Événements provinciaux
END:VEVENT
BEGIN:VEVENT
DTSTART;TZID=America/Toronto:20240324T120000
DTEND;TZID=America/Toronto:20240324T140000
DTSTAMP:20260424T222756
CREATED:20240319T023832Z
LAST-MODIFIED:20240319T023832Z
UID:1488-1711281600-1711288800@teqball-quebec.ca
SUMMARY:Teqball Entraînement -pratique Ligue TEQ 18ans et plus
DESCRIPTION:Séance pratique ligue TEQ 18ans et plus dans le gymnase de l’ecole Fernard-Seguin a Montreal\, où nos tables de Teqball seront présentes. Venez nous rejoindre pour ameliorer vos competences et aussi nous amuser ensemble!
URL:https://teqball-quebec.ca/event/teqball-entrainement-pratique-ligue-teq-18ans-et-plus/
LOCATION:École primaire Fernand-Séguin\, 10 050\, avenue DurhamMontréal (Québec)\, Montreal\, Quebec\, H2C 2G3\, Canada
CATEGORIES:2024,Événements provinciaux
END:VEVENT
END:VCALENDAR