BEGIN:VCALENDAR
VERSION:2.0
PRODID:-//Teqball Quebec - ECPv6.15.20//NONSGML v1.0//EN
CALSCALE:GREGORIAN
METHOD:PUBLISH
X-WR-CALNAME:Teqball Quebec
X-ORIGINAL-URL:https://teqball-quebec.ca
X-WR-CALDESC:Événements pour Teqball Quebec
REFRESH-INTERVAL;VALUE=DURATION:PT1H
X-Robots-Tag:noindex
X-PUBLISHED-TTL:PT1H
BEGIN:VTIMEZONE
TZID:America/Toronto
BEGIN:DAYLIGHT
TZOFFSETFROM:-0500
TZOFFSETTO:-0400
TZNAME:EDT
DTSTART:20230312T070000
END:DAYLIGHT
BEGIN:STANDARD
TZOFFSETFROM:-0400
TZOFFSETTO:-0500
TZNAME:EST
DTSTART:20231105T060000
END:STANDARD
BEGIN:DAYLIGHT
TZOFFSETFROM:-0500
TZOFFSETTO:-0400
TZNAME:EDT
DTSTART:20240310T070000
END:DAYLIGHT
BEGIN:STANDARD
TZOFFSETFROM:-0400
TZOFFSETTO:-0500
TZNAME:EST
DTSTART:20241103T060000
END:STANDARD
BEGIN:DAYLIGHT
TZOFFSETFROM:-0500
TZOFFSETTO:-0400
TZNAME:EDT
DTSTART:20250309T070000
END:DAYLIGHT
BEGIN:STANDARD
TZOFFSETFROM:-0400
TZOFFSETTO:-0500
TZNAME:EST
DTSTART:20251102T060000
END:STANDARD
END:VTIMEZONE
BEGIN:VEVENT
DTSTART;TZID=America/Toronto:20240406T130000
DTEND;TZID=America/Toronto:20240406T180000
DTSTAMP:20260424T205112
CREATED:20240320T015345Z
LAST-MODIFIED:20240321T030331Z
UID:1490-1712408400-1712426400@teqball-quebec.ca
SUMMARY:Tournoi SÉRIE NATIONALE CANADA TEQBALL – TOUR 2
DESCRIPTION:Êtes-vous TEQ? Tournoi SÉRIE NATIONALE CANADA TEQBALL – TOUR 2\nréservez la date dans votre calendrier : le 6 avril 2024! Teqball Québec et Teqball Canada\, en collaboration avec Jeux de la Rue et RAP Jeunesse\, vous invitent à participer dans un tournoi ! Venez essayer ce nouveau sport avec nous\, montrez-nous vos compétences et amusons-nous ensemble! Inscription obligatoire sur notre site Internet https://teqball-quebec.ca/inscription-2/ ou par courriel à contact@teqball-quebec.ca! N’oubliez pas les cadenas pour vos vestiaires !\nÉvénements nationaux\nSimple messieurs\, Double messieurs\, Double dames \nhttps://www.fiteq.org/events/407/details \nMerci à notre partenaire:
URL:https://teqball-quebec.ca/event/tournoi-serie-nationale-canada-teqball-tour-2/
LOCATION:YMCA Cartierville\, 11885 Blvd. Laurentien\, Montreal\, Quebec\, H4J 2R5\, Canada
CATEGORIES:Compétitions,Événements provinciaux
END:VEVENT
END:VCALENDAR