BEGIN:VCALENDAR
VERSION:2.0
PRODID:-//Teqball Quebec - ECPv6.15.20//NONSGML v1.0//EN
CALSCALE:GREGORIAN
METHOD:PUBLISH
X-WR-CALNAME:Teqball Quebec
X-ORIGINAL-URL:https://teqball-quebec.ca
X-WR-CALDESC:Événements pour Teqball Quebec
REFRESH-INTERVAL;VALUE=DURATION:PT1H
X-Robots-Tag:noindex
X-PUBLISHED-TTL:PT1H
BEGIN:VTIMEZONE
TZID:America/Toronto
BEGIN:DAYLIGHT
TZOFFSETFROM:-0500
TZOFFSETTO:-0400
TZNAME:EDT
DTSTART:20230312T070000
END:DAYLIGHT
BEGIN:STANDARD
TZOFFSETFROM:-0400
TZOFFSETTO:-0500
TZNAME:EST
DTSTART:20231105T060000
END:STANDARD
BEGIN:DAYLIGHT
TZOFFSETFROM:-0500
TZOFFSETTO:-0400
TZNAME:EDT
DTSTART:20240310T070000
END:DAYLIGHT
BEGIN:STANDARD
TZOFFSETFROM:-0400
TZOFFSETTO:-0500
TZNAME:EST
DTSTART:20241103T060000
END:STANDARD
BEGIN:DAYLIGHT
TZOFFSETFROM:-0500
TZOFFSETTO:-0400
TZNAME:EDT
DTSTART:20250309T070000
END:DAYLIGHT
BEGIN:STANDARD
TZOFFSETFROM:-0400
TZOFFSETTO:-0500
TZNAME:EST
DTSTART:20251102T060000
END:STANDARD
END:VTIMEZONE
BEGIN:VEVENT
DTSTART;TZID=America/Toronto:20240518T100000
DTEND;TZID=America/Toronto:20240518T150000
DTSTAMP:20260424T191506
CREATED:20240515T001716Z
LAST-MODIFIED:20240515T001716Z
UID:1565-1716026400-1716044400@teqball-quebec.ca
SUMMARY:SHOWCASE- Teqball Québec avec Les Dragons de Drummondville
DESCRIPTION:Seance de presentation organisée par Teqball Québec en parteneriat avec Les Dragons de Drummondville
URL:https://teqball-quebec.ca/event/seance-de-presentation-organisee-par-teqball-quebec-en-parteneriat-avec-les-dragons-de-drummondville/
LOCATION:Les Dragons de Drummondville\, 1080\, rue Clair\, (secteur Saint-Nicéphore)\,\, Drummondville\, Quebec\, J2A 2K2\, Canada
CATEGORIES:2024,Événements provinciaux
END:VEVENT
END:VCALENDAR