BEGIN:VCALENDAR
VERSION:2.0
PRODID:-//Teqball Quebec - ECPv6.15.20//NONSGML v1.0//EN
CALSCALE:GREGORIAN
METHOD:PUBLISH
X-ORIGINAL-URL:https://teqball-quebec.ca
X-WR-CALDESC:Événements pour Teqball Quebec
REFRESH-INTERVAL;VALUE=DURATION:PT1H
X-Robots-Tag:noindex
X-PUBLISHED-TTL:PT1H
BEGIN:VTIMEZONE
TZID:America/Toronto
BEGIN:DAYLIGHT
TZOFFSETFROM:-0500
TZOFFSETTO:-0400
TZNAME:EDT
DTSTART:20230312T070000
END:DAYLIGHT
BEGIN:STANDARD
TZOFFSETFROM:-0400
TZOFFSETTO:-0500
TZNAME:EST
DTSTART:20231105T060000
END:STANDARD
BEGIN:DAYLIGHT
TZOFFSETFROM:-0500
TZOFFSETTO:-0400
TZNAME:EDT
DTSTART:20240310T070000
END:DAYLIGHT
BEGIN:STANDARD
TZOFFSETFROM:-0400
TZOFFSETTO:-0500
TZNAME:EST
DTSTART:20241103T060000
END:STANDARD
BEGIN:DAYLIGHT
TZOFFSETFROM:-0500
TZOFFSETTO:-0400
TZNAME:EDT
DTSTART:20250309T070000
END:DAYLIGHT
BEGIN:STANDARD
TZOFFSETFROM:-0400
TZOFFSETTO:-0500
TZNAME:EST
DTSTART:20251102T060000
END:STANDARD
END:VTIMEZONE
BEGIN:VEVENT
DTSTART;TZID=America/Toronto:20240914T160000
DTEND;TZID=America/Toronto:20240914T220000
DTSTAMP:20260424T131432
CREATED:20240912T014104Z
LAST-MODIFIED:20240914T161925Z
UID:1674-1726329600-1726351200@teqball-quebec.ca
SUMMARY:Tournoi de Soccer "CSU ALL STAR CUP 2024"- All Star Xperience&Concordia Student Union en parteneriat avec Teqball Québec
DESCRIPTION:Réservez les dates : le 14 septembre\, All Star Xperience  en collaboration avec l’Association des étudiants de Concordia et l’Université Concordia\, organisent le tournoi CSU All Star Cup sur les terrains de Concordia Stingers Field\, Loyola Campus. Et…ils offrent un prix en argent de 2 000 $ 💰 20 équipes\, 1 seul gagnant 👑!  Teqball Québec est invité en tant que partenaire avec deux tables de Teqball\, des entraînements gratuits pour tous les participants au tournoi ! Venez essayer ce nouveau sport avec nous ! DJ en direct\, stands de santé et de fitness\, nourriture et boissons\, ouvert à TOUS ‼️
URL:https://teqball-quebec.ca/event/tournoi-de-soccer-csu-all-star-cup-2024-all-star-xperience-en-parteneriat-avec-teqball-quebec/
LOCATION:Concordia Stingers Field\, 7200 Sherbrooke St W\,\, Montreal\, Quebec\, H4B 1R2\, Canada
CATEGORIES:2024,Événements provinciaux
END:VEVENT
END:VCALENDAR