BEGIN:VCALENDAR
VERSION:2.0
PRODID:-//Teqball Quebec - ECPv6.15.20//NONSGML v1.0//EN
CALSCALE:GREGORIAN
METHOD:PUBLISH
X-WR-CALNAME:Teqball Quebec
X-ORIGINAL-URL:https://teqball-quebec.ca
X-WR-CALDESC:Événements pour Teqball Quebec
REFRESH-INTERVAL;VALUE=DURATION:PT1H
X-Robots-Tag:noindex
X-PUBLISHED-TTL:PT1H
BEGIN:VTIMEZONE
TZID:America/Toronto
BEGIN:DAYLIGHT
TZOFFSETFROM:-0500
TZOFFSETTO:-0400
TZNAME:EDT
DTSTART:20240310T070000
END:DAYLIGHT
BEGIN:STANDARD
TZOFFSETFROM:-0400
TZOFFSETTO:-0500
TZNAME:EST
DTSTART:20241103T060000
END:STANDARD
BEGIN:DAYLIGHT
TZOFFSETFROM:-0500
TZOFFSETTO:-0400
TZNAME:EDT
DTSTART:20250309T070000
END:DAYLIGHT
BEGIN:STANDARD
TZOFFSETFROM:-0400
TZOFFSETTO:-0500
TZNAME:EST
DTSTART:20251102T060000
END:STANDARD
BEGIN:DAYLIGHT
TZOFFSETFROM:-0500
TZOFFSETTO:-0400
TZNAME:EDT
DTSTART:20260308T070000
END:DAYLIGHT
BEGIN:STANDARD
TZOFFSETFROM:-0400
TZOFFSETTO:-0500
TZNAME:EST
DTSTART:20261101T060000
END:STANDARD
END:VTIMEZONE
BEGIN:VEVENT
DTSTART;TZID=America/Toronto:20251018T130000
DTEND;TZID=America/Toronto:20251019T160000
DTSTAMP:20260423T184827
CREATED:20250923T000629Z
LAST-MODIFIED:20250923T000629Z
UID:1826-1760792400-1760889600@teqball-quebec.ca
SUMMARY:Tournoi Teqball OPEN QUEBEC 3eme édition/3rd edition of the OPEN QUEBEC Tournament
DESCRIPTION:Êtes-vous TEQ? Tournoi OPEN QUEBEC 3eme édition- Prix totaux 3.000$CAD \n(Tournoi de Teqball Categ 5 FITEQ)\nNotez la date à votre agenda : le 18 octobre de 13.00h a 19.00h (qualifications de groupes) et 19 octobre 2025 de 12.00h a 14.00h (demi-dinales et finales)! Teqball Québec et Teqball Canada vous invitent à participer à notre tournoi provincial ! Venez essayer ce nouveau sport avec nous\, montrez-nous vos habiletés et amusons-nous ensemble ! Inscription obligatoire 30$/pers sur notre site internet https://teqball-quebec.ca/inscription-2/ ou par courriel à contact@teqball-quebec.ca ! \nAre you TEQ? 3rd edition of the OPEN QUEBEC Tournament – Total prizes $3\,000 CAD \n(FITEQ Category 5 Teqball Tournament)\nSave the date in your calendar: October 18th from 1:00 PM to 7:00 PM (group qualifiers) and October 19th\, 2025 from 12:00 PM to 2:00 PM (semi-finals and finals)! Teqball Québec and Teqball Canada invite you to participate in our provincial tournament! Come try this new sport with us\, show us your skills\, and let’s have fun together! Registration required ($30/person) on our website: https://teqball-quebec.ca/inscription-2/  or by email at contact@teqball-quebec.ca! \nMerci a nos sponsors/Thanks to our sponsors: \nhttps://www.savifoot.com/qc/  \n https://www.jeuxdelarue.com/ \nTEO TRAVEL Services:  https://teotravel.ca/ \nPlomberie Costel \nImmeubles Gavrila \nAndy Transport: https://www.andytransport.com/ \nDionis Wine Club/Maxim Impex: facebook.com/ClubDionisVin \nKeurig: https://www.keurig.ca/
URL:https://teqball-quebec.ca/event/tournoi-teqball-open-quebec-3eme-edition-3rd-edition-of-the-open-quebec-tournament/
LOCATION:YMCA SAINT LAURENT\, 1745 Décarie Street\, Saint-Laurent\, Quebec\, H4L 3N5\, Canada
CATEGORIES:2025,Compétitions,Événements provinciaux
END:VEVENT
END:VCALENDAR