BEGIN:VCALENDAR
VERSION:2.0
PRODID:-//Teqball Quebec - ECPv6.15.20//NONSGML v1.0//EN
CALSCALE:GREGORIAN
METHOD:PUBLISH
X-ORIGINAL-URL:https://teqball-quebec.ca
X-WR-CALDESC:Événements pour Teqball Quebec
REFRESH-INTERVAL;VALUE=DURATION:PT1H
X-Robots-Tag:noindex
X-PUBLISHED-TTL:PT1H
BEGIN:VTIMEZONE
TZID:America/Toronto
BEGIN:DAYLIGHT
TZOFFSETFROM:-0500
TZOFFSETTO:-0400
TZNAME:EDT
DTSTART:20240310T070000
END:DAYLIGHT
BEGIN:STANDARD
TZOFFSETFROM:-0400
TZOFFSETTO:-0500
TZNAME:EST
DTSTART:20241103T060000
END:STANDARD
BEGIN:DAYLIGHT
TZOFFSETFROM:-0500
TZOFFSETTO:-0400
TZNAME:EDT
DTSTART:20250309T070000
END:DAYLIGHT
BEGIN:STANDARD
TZOFFSETFROM:-0400
TZOFFSETTO:-0500
TZNAME:EST
DTSTART:20251102T060000
END:STANDARD
BEGIN:DAYLIGHT
TZOFFSETFROM:-0500
TZOFFSETTO:-0400
TZNAME:EDT
DTSTART:20260308T070000
END:DAYLIGHT
BEGIN:STANDARD
TZOFFSETFROM:-0400
TZOFFSETTO:-0500
TZNAME:EST
DTSTART:20261101T060000
END:STANDARD
END:VTIMEZONE
BEGIN:VEVENT
DTSTART;TZID=America/Toronto:20251114T203000
DTEND;TZID=America/Toronto:20251114T223000
DTSTAMP:20260423T185430
CREATED:20251124T160355Z
LAST-MODIFIED:20251124T160355Z
UID:1862-1763152200-1763159400@teqball-quebec.ca
SUMMARY:Teqball training/Séances libres de Teqball
DESCRIPTION:Montréal Teqball Club en collaboration avec Teqball Québec\, vous invite à une séance d’entraînement libre de Teqball au gymnase du Collège Notre-Dame de Montréal\, où nos tables de Teqball seront installées. Venez perfectionner votre technique et vous amuser avec nous ! Ouvert à tous : débutants\, joueurs de soccer et personnes découvrant le sport. \n✅ Format libre pour jouer\, interagir et progresser\n✅ Encadrement par des entraîneurs certifiés \nPour vous inscrire\, veuillez contacter le Club de Teqball de Montréal à l’adresse montrealteqballclub@gmail.com.
URL:https://teqball-quebec.ca/event/teqball-training-seances-libres-de-teqball/
LOCATION:Collège Notre-Dame de Montréal\, 3791 Queen Mary Rd\, Montreal\, Quebec\, H3V 1A8\, Canada
CATEGORIES:2025,Événements provinciaux
END:VEVENT
END:VCALENDAR