BEGIN:VCALENDAR
VERSION:2.0
PRODID:-//Teqball Quebec - ECPv6.15.20//NONSGML v1.0//EN
CALSCALE:GREGORIAN
METHOD:PUBLISH
X-ORIGINAL-URL:https://teqball-quebec.ca
X-WR-CALDESC:Événements pour Teqball Quebec
REFRESH-INTERVAL;VALUE=DURATION:PT1H
X-Robots-Tag:noindex
X-PUBLISHED-TTL:PT1H
BEGIN:VTIMEZONE
TZID:America/Toronto
BEGIN:DAYLIGHT
TZOFFSETFROM:-0500
TZOFFSETTO:-0400
TZNAME:EDT
DTSTART:20220313T070000
END:DAYLIGHT
BEGIN:STANDARD
TZOFFSETFROM:-0400
TZOFFSETTO:-0500
TZNAME:EST
DTSTART:20221106T060000
END:STANDARD
BEGIN:DAYLIGHT
TZOFFSETFROM:-0500
TZOFFSETTO:-0400
TZNAME:EDT
DTSTART:20230312T070000
END:DAYLIGHT
BEGIN:STANDARD
TZOFFSETFROM:-0400
TZOFFSETTO:-0500
TZNAME:EST
DTSTART:20231105T060000
END:STANDARD
BEGIN:DAYLIGHT
TZOFFSETFROM:-0500
TZOFFSETTO:-0400
TZNAME:EDT
DTSTART:20240310T070000
END:DAYLIGHT
BEGIN:STANDARD
TZOFFSETFROM:-0400
TZOFFSETTO:-0500
TZNAME:EST
DTSTART:20241103T060000
END:STANDARD
END:VTIMEZONE
BEGIN:VEVENT
DTSTART;TZID=America/Toronto:20231014T100000
DTEND;TZID=America/Toronto:20231014T150000
DTSTAMP:20260425T113906
CREATED:20230917T151349Z
LAST-MODIFIED:20230917T154521Z
UID:1266-1697277600-1697295600@teqball-quebec.ca
SUMMARY:Tournoi d'ouverture Teqball “Québec Open” avec le support de Teqball Canada
DESCRIPTION:Êtes-vous TEQ?\nTournoi d’ouverture\, réservez la date dans votre calendrier : le 14 octobre 2023\, Teqball Québec et Teqball Canada vous invitent à participer dans un tournoi amical! Venez essayer ce nouveau sport avec nous\, montrez-nous vos talents et amusons-nous ensemble ! Inscription obligatoire sur notre site Internet https://teqball-quebec.ca/inscription-2/ ou par courriel à contact@teqball-quebec.ca !
URL:https://teqball-quebec.ca/event/quebec-open/
LOCATION:École Jardin Bienville\, 3950\, rue Emma-Collin\, SAINT HUBERT\, QC\, J3Y 0C1\, Canada
CATEGORIES:Compétitions,Événements provinciaux
END:VEVENT
END:VCALENDAR