BEGIN:VCALENDAR
VERSION:2.0
PRODID:-//Teqball Quebec - ECPv6.15.20//NONSGML v1.0//EN
CALSCALE:GREGORIAN
METHOD:PUBLISH
X-WR-CALNAME:Teqball Quebec
X-ORIGINAL-URL:https://teqball-quebec.ca
X-WR-CALDESC:Événements pour Teqball Quebec
REFRESH-INTERVAL;VALUE=DURATION:PT1H
X-Robots-Tag:noindex
X-PUBLISHED-TTL:PT1H
BEGIN:VTIMEZONE
TZID:America/Toronto
BEGIN:DAYLIGHT
TZOFFSETFROM:-0500
TZOFFSETTO:-0400
TZNAME:EDT
DTSTART:20230312T070000
END:DAYLIGHT
BEGIN:STANDARD
TZOFFSETFROM:-0400
TZOFFSETTO:-0500
TZNAME:EST
DTSTART:20231105T060000
END:STANDARD
BEGIN:DAYLIGHT
TZOFFSETFROM:-0500
TZOFFSETTO:-0400
TZNAME:EDT
DTSTART:20240310T070000
END:DAYLIGHT
BEGIN:STANDARD
TZOFFSETFROM:-0400
TZOFFSETTO:-0500
TZNAME:EST
DTSTART:20241103T060000
END:STANDARD
BEGIN:DAYLIGHT
TZOFFSETFROM:-0500
TZOFFSETTO:-0400
TZNAME:EDT
DTSTART:20250309T070000
END:DAYLIGHT
BEGIN:STANDARD
TZOFFSETFROM:-0400
TZOFFSETTO:-0500
TZNAME:EST
DTSTART:20251102T060000
END:STANDARD
END:VTIMEZONE
BEGIN:VEVENT
DTSTART;TZID=America/Toronto:20240217T090000
DTEND;TZID=America/Toronto:20240217T120000
DTSTAMP:20260425T071049
CREATED:20240214T195537Z
LAST-MODIFIED:20240214T195537Z
UID:1457-1708160400-1708171200@teqball-quebec.ca
SUMMARY:Teqball- Séance d'information libre
DESCRIPTION:Les Jeux de la Rue et Teqball Québec vous invitent a découvrir ce nouveau sport. La première séance libre d’information au Stade de Montreal\, où nos colaborateurs Teqball seront présents pour partager des informations\, brochures et carte d’affaires avec vous.
URL:https://teqball-quebec.ca/event/teqball-seance-dinformation-libre/
LOCATION:Stade de soccer de Montréal\, 9235 Av. Papineau\, Montreal\, Quebec\, H2M 2G5\, Canada
CATEGORIES:2024,Événements provinciaux
END:VEVENT
END:VCALENDAR