BEGIN:VCALENDAR
VERSION:2.0
PRODID:-//Teqball Quebec - ECPv6.15.20//NONSGML v1.0//EN
CALSCALE:GREGORIAN
METHOD:PUBLISH
X-WR-CALNAME:Teqball Quebec
X-ORIGINAL-URL:https://teqball-quebec.ca
X-WR-CALDESC:Événements pour Teqball Quebec
REFRESH-INTERVAL;VALUE=DURATION:PT1H
X-Robots-Tag:noindex
X-PUBLISHED-TTL:PT1H
BEGIN:VTIMEZONE
TZID:America/Toronto
BEGIN:DAYLIGHT
TZOFFSETFROM:-0500
TZOFFSETTO:-0400
TZNAME:EDT
DTSTART:20220313T070000
END:DAYLIGHT
BEGIN:STANDARD
TZOFFSETFROM:-0400
TZOFFSETTO:-0500
TZNAME:EST
DTSTART:20221106T060000
END:STANDARD
BEGIN:DAYLIGHT
TZOFFSETFROM:-0500
TZOFFSETTO:-0400
TZNAME:EDT
DTSTART:20230312T070000
END:DAYLIGHT
BEGIN:STANDARD
TZOFFSETFROM:-0400
TZOFFSETTO:-0500
TZNAME:EST
DTSTART:20231105T060000
END:STANDARD
BEGIN:DAYLIGHT
TZOFFSETFROM:-0500
TZOFFSETTO:-0400
TZNAME:EDT
DTSTART:20240310T070000
END:DAYLIGHT
BEGIN:STANDARD
TZOFFSETFROM:-0400
TZOFFSETTO:-0500
TZNAME:EST
DTSTART:20241103T060000
END:STANDARD
END:VTIMEZONE
BEGIN:VEVENT
DTSTART;TZID=America/Toronto:20230505T083000
DTEND;TZID=America/Toronto:20230505T163000
DTSTAMP:20260425T125336
CREATED:20230504T005307Z
LAST-MODIFIED:20230504T005307Z
UID:1159-1683275400-1683304200@teqball-quebec.ca
SUMMARY:Seance d'entraînement Sport-Études- Teqball Québec avec ARS Concordia
DESCRIPTION:
URL:https://teqball-quebec.ca/event/seance-dentrainement-sport-etudes-teqball-quebec-avec-ars-concordia/
LOCATION:Stade de Montreal\, 9235\, avenue Papineau\, Montréal\, Quebec\, H2M 2G5\, Canada
END:VEVENT
BEGIN:VEVENT
DTSTART;TZID=America/Toronto:20230506T100000
DTEND;TZID=America/Toronto:20230506T120000
DTSTAMP:20260425T125336
CREATED:20230504T011745Z
LAST-MODIFIED:20230504T011926Z
UID:1171-1683367200-1683374400@teqball-quebec.ca
SUMMARY:Teqball Entraînement libre
DESCRIPTION:
URL:https://teqball-quebec.ca/event/teqball-free-practice-teqball-entrainement-libre/
LOCATION:École Jardin Bienville\, 3950\, rue Emma-Collin\, SAINT HUBERT\, QC\, J3Y 0C1\, Canada
END:VEVENT
BEGIN:VEVENT
DTSTART;TZID=America/Toronto:20230513T100000
DTEND;TZID=America/Toronto:20230513T120000
DTSTAMP:20260425T125336
CREATED:20230504T011846Z
LAST-MODIFIED:20230504T011846Z
UID:1177-1683972000-1683979200@teqball-quebec.ca
SUMMARY:Teqball Entraînement libre
DESCRIPTION:
URL:https://teqball-quebec.ca/event/teqball-entrainement-libre/
LOCATION:École Jardin Bienville\, 3950\, rue Emma-Collin\, SAINT HUBERT\, QC\, J3Y 0C1\, Canada
END:VEVENT
BEGIN:VEVENT
DTSTART;TZID=America/Toronto:20230520T100000
DTEND;TZID=America/Toronto:20230520T120000
DTSTAMP:20260425T125336
CREATED:20230504T012036Z
LAST-MODIFIED:20230504T012036Z
UID:1181-1684576800-1684584000@teqball-quebec.ca
SUMMARY:Teqball Entraînement libre
DESCRIPTION:
URL:https://teqball-quebec.ca/event/teqball-entrainement-libre-2/
LOCATION:École Jardin Bienville\, 3950\, rue Emma-Collin\, SAINT HUBERT\, QC\, J3Y 0C1\, Canada
END:VEVENT
BEGIN:VEVENT
DTSTART;TZID=America/Toronto:20230524T083000
DTEND;TZID=America/Toronto:20230524T163000
DTSTAMP:20260425T125336
CREATED:20230504T010041Z
LAST-MODIFIED:20230518T011550Z
UID:1169-1684917000-1684945800@teqball-quebec.ca
SUMMARY:Seance d'entraînement Sport-Études- Teqball Québec avec ARS Concordia
DESCRIPTION:
URL:https://teqball-quebec.ca/event/seance-dentrainement-sport-etudes-teqball-quebec-avec-ars-concordia-copy/
LOCATION:Stade de Montreal\, 9235\, avenue Papineau\, Montréal\, Quebec\, H2M 2G5\, Canada
END:VEVENT
BEGIN:VEVENT
DTSTART;TZID=America/Toronto:20230527T100000
DTEND;TZID=America/Toronto:20230527T120000
DTSTAMP:20260425T125336
CREATED:20230504T012116Z
LAST-MODIFIED:20230518T011741Z
UID:1180-1685181600-1685188800@teqball-quebec.ca
SUMMARY:Teqball Entraînement libre- il y a un blocage le 27 mai 2023 et notre activité ne pourra donc pas avoir lieu en cette journée.
DESCRIPTION:
URL:https://teqball-quebec.ca/event/teqball-entrainement-libre-3/
LOCATION:École Jardin Bienville\, 3950\, rue Emma-Collin\, SAINT HUBERT\, QC\, J3Y 0C1\, Canada
END:VEVENT
END:VCALENDAR