BEGIN:VCALENDAR
VERSION:2.0
PRODID:-//Teqball Quebec - ECPv6.15.20//NONSGML v1.0//EN
CALSCALE:GREGORIAN
METHOD:PUBLISH
X-WR-CALNAME:Teqball Quebec
X-ORIGINAL-URL:https://teqball-quebec.ca
X-WR-CALDESC:Événements pour Teqball Quebec
REFRESH-INTERVAL;VALUE=DURATION:PT1H
X-Robots-Tag:noindex
X-PUBLISHED-TTL:PT1H
BEGIN:VTIMEZONE
TZID:America/Toronto
BEGIN:DAYLIGHT
TZOFFSETFROM:-0500
TZOFFSETTO:-0400
TZNAME:EDT
DTSTART:20220313T070000
END:DAYLIGHT
BEGIN:STANDARD
TZOFFSETFROM:-0400
TZOFFSETTO:-0500
TZNAME:EST
DTSTART:20221106T060000
END:STANDARD
BEGIN:DAYLIGHT
TZOFFSETFROM:-0500
TZOFFSETTO:-0400
TZNAME:EDT
DTSTART:20230312T070000
END:DAYLIGHT
BEGIN:STANDARD
TZOFFSETFROM:-0400
TZOFFSETTO:-0500
TZNAME:EST
DTSTART:20231105T060000
END:STANDARD
BEGIN:DAYLIGHT
TZOFFSETFROM:-0500
TZOFFSETTO:-0400
TZNAME:EDT
DTSTART:20240310T070000
END:DAYLIGHT
BEGIN:STANDARD
TZOFFSETFROM:-0400
TZOFFSETTO:-0500
TZNAME:EST
DTSTART:20241103T060000
END:STANDARD
END:VTIMEZONE
BEGIN:VEVENT
DTSTART;TZID=America/Toronto:20230820T100000
DTEND;TZID=America/Toronto:20230820T130000
DTSTAMP:20260425T080415
CREATED:20230814T224120Z
LAST-MODIFIED:20230814T224603Z
UID:1258-1692525600-1692536400@teqball-quebec.ca
SUMMARY:Teqball Entraînement libre- Parc Jarry
DESCRIPTION:
URL:https://teqball-quebec.ca/event/teqball-entrainement-libre-parc-jarry/
LOCATION:Parc Jarry\, Montreal\, 205 Rue Gary-Carter\, Montreal\, Quebec\, H2R 2V7
CATEGORIES:Compétitions,Événements provinciaux
END:VEVENT
BEGIN:VEVENT
DTSTART;VALUE=DATE:20230826
DTEND;VALUE=DATE:20230828
DTSTAMP:20260425T080415
CREATED:20230814T193933Z
LAST-MODIFIED:20230814T194102Z
UID:1248-1693008000-1693180799@teqball-quebec.ca
SUMMARY:Tournoi de Soccer "La Surboum 2023"- CS Boucherville en parteneriat avec Teqball Québec
DESCRIPTION:
URL:https://teqball-quebec.ca/event/tournoi-de-soccer-surboum-2023/
LOCATION:551 Chemin du Lac\, Boucherville\, QC J4B 6X6\, 551 Chem. du Lac\, Boucherville\, QC\, Boucherville\, Quebec\, J4B 6X6\, Canada
CATEGORIES:Compétitions,Événements provinciaux
ORGANIZER;CN="CS Boucherville":MAILTO:info@soccerboucherville.com
END:VEVENT
END:VCALENDAR