BEGIN:VCALENDAR
VERSION:2.0
PRODID:-//Teqball Quebec - ECPv6.15.20//NONSGML v1.0//EN
CALSCALE:GREGORIAN
METHOD:PUBLISH
X-ORIGINAL-URL:https://teqball-quebec.ca
X-WR-CALDESC:Événements pour Teqball Quebec
REFRESH-INTERVAL;VALUE=DURATION:PT1H
X-Robots-Tag:noindex
X-PUBLISHED-TTL:PT1H
BEGIN:VTIMEZONE
TZID:America/Toronto
BEGIN:DAYLIGHT
TZOFFSETFROM:-0500
TZOFFSETTO:-0400
TZNAME:EDT
DTSTART:20220313T070000
END:DAYLIGHT
BEGIN:STANDARD
TZOFFSETFROM:-0400
TZOFFSETTO:-0500
TZNAME:EST
DTSTART:20221106T060000
END:STANDARD
BEGIN:DAYLIGHT
TZOFFSETFROM:-0500
TZOFFSETTO:-0400
TZNAME:EDT
DTSTART:20230312T070000
END:DAYLIGHT
BEGIN:STANDARD
TZOFFSETFROM:-0400
TZOFFSETTO:-0500
TZNAME:EST
DTSTART:20231105T060000
END:STANDARD
BEGIN:DAYLIGHT
TZOFFSETFROM:-0500
TZOFFSETTO:-0400
TZNAME:EDT
DTSTART:20240310T070000
END:DAYLIGHT
BEGIN:STANDARD
TZOFFSETFROM:-0400
TZOFFSETTO:-0500
TZNAME:EST
DTSTART:20241103T060000
END:STANDARD
END:VTIMEZONE
BEGIN:VEVENT
DTSTART;TZID=America/Toronto:20230910T100000
DTEND;TZID=America/Toronto:20230910T130000
DTSTAMP:20260425T063400
CREATED:20230814T224807Z
LAST-MODIFIED:20230814T224858Z
UID:1264-1694340000-1694350800@teqball-quebec.ca
SUMMARY:Teqball Entraînement libre- Parc Jarry
DESCRIPTION:
URL:https://teqball-quebec.ca/event/teqball-entrainement-libre-parc-jarry-2/
LOCATION:Parc Jarry\, Montreal\, 205 Rue Gary-Carter\, Montreal\, Quebec\, H2R 2V7
CATEGORIES:Compétitions,Événements provinciaux
END:VEVENT
BEGIN:VEVENT
DTSTART;VALUE=DATE:20230923
DTEND;VALUE=DATE:20230925
DTSTAMP:20260425T063400
CREATED:20230814T225719Z
LAST-MODIFIED:20230814T225719Z
UID:1267-1695427200-1695599999@teqball-quebec.ca
SUMMARY:Tournoi de Soccer "LA CLASSIQUE DE L’EXPRESS 2023"- CS Boucherville en parteneriat avec Teqball Québec
DESCRIPTION:
URL:https://teqball-quebec.ca/event/tournoi-de-soccer-la-classique-de-lexpress-2023-cs-boucherville-en-parteneriat-avec-teqball-quebec/
LOCATION:551 Chemin du Lac\, Boucherville\, QC J4B 6X6\, 551 Chem. du Lac\, Boucherville\, QC\, Boucherville\, Quebec\, J4B 6X6\, Canada
CATEGORIES:Compétitions,Événements provinciaux
ORGANIZER;CN="CS Boucherville":MAILTO:info@soccerboucherville.com
END:VEVENT
END:VCALENDAR