BEGIN:VCALENDAR
VERSION:2.0
PRODID:-//Teqball Quebec - ECPv6.15.20//NONSGML v1.0//EN
CALSCALE:GREGORIAN
METHOD:PUBLISH
X-WR-CALNAME:Teqball Quebec
X-ORIGINAL-URL:https://teqball-quebec.ca
X-WR-CALDESC:Événements pour Teqball Quebec
REFRESH-INTERVAL;VALUE=DURATION:PT1H
X-Robots-Tag:noindex
X-PUBLISHED-TTL:PT1H
BEGIN:VTIMEZONE
TZID:America/Toronto
BEGIN:DAYLIGHT
TZOFFSETFROM:-0500
TZOFFSETTO:-0400
TZNAME:EDT
DTSTART:20230312T070000
END:DAYLIGHT
BEGIN:STANDARD
TZOFFSETFROM:-0400
TZOFFSETTO:-0500
TZNAME:EST
DTSTART:20231105T060000
END:STANDARD
BEGIN:DAYLIGHT
TZOFFSETFROM:-0500
TZOFFSETTO:-0400
TZNAME:EDT
DTSTART:20240310T070000
END:DAYLIGHT
BEGIN:STANDARD
TZOFFSETFROM:-0400
TZOFFSETTO:-0500
TZNAME:EST
DTSTART:20241103T060000
END:STANDARD
BEGIN:DAYLIGHT
TZOFFSETFROM:-0500
TZOFFSETTO:-0400
TZNAME:EDT
DTSTART:20250309T070000
END:DAYLIGHT
BEGIN:STANDARD
TZOFFSETFROM:-0400
TZOFFSETTO:-0500
TZNAME:EST
DTSTART:20251102T060000
END:STANDARD
END:VTIMEZONE
BEGIN:VEVENT
DTSTART;TZID=America/Toronto:20240515T180000
DTEND;TZID=America/Toronto:20240515T213000
DTSTAMP:20260424T174032
CREATED:20240515T000447Z
LAST-MODIFIED:20240515T000447Z
UID:1557-1715796000-1715808600@teqball-quebec.ca
SUMMARY:SHOWCASE - pendant le match de CF Montréal vs Columbus
DESCRIPTION:Seance de presentation pour tous les fans de CF Montréal- organisée par Teqball Québec en parteneriat avec CF Montréal pendant le match de CF Montréal vs Columbus le 15 juin 2024  de 6.00pm a 9.30pm au Stade Saputo- 4750 Sherbrooke St E\, Montréal\, H1V 3S8
URL:https://teqball-quebec.ca/event/showcase-pendant-le-match-de-cf-montreal-vs-columbus/
LOCATION:Stade Saputo- 4750 Sherbrooke St E\, Montreal\, H1V 3S8\, 4750 Sherbrooke St E\, Montreal\, QC\, H1V 3S8\, Canada
CATEGORIES:2024,Événements provinciaux
END:VEVENT
BEGIN:VEVENT
DTSTART;TZID=America/Toronto:20240518T100000
DTEND;TZID=America/Toronto:20240518T150000
DTSTAMP:20260424T174032
CREATED:20240515T001716Z
LAST-MODIFIED:20240515T001716Z
UID:1565-1716026400-1716044400@teqball-quebec.ca
SUMMARY:SHOWCASE- Teqball Québec avec Les Dragons de Drummondville
DESCRIPTION:Seance de presentation organisée par Teqball Québec en parteneriat avec Les Dragons de Drummondville
URL:https://teqball-quebec.ca/event/seance-de-presentation-organisee-par-teqball-quebec-en-parteneriat-avec-les-dragons-de-drummondville/
LOCATION:Les Dragons de Drummondville\, 1080\, rue Clair\, (secteur Saint-Nicéphore)\,\, Drummondville\, Quebec\, J2A 2K2\, Canada
CATEGORIES:2024,Événements provinciaux
END:VEVENT
BEGIN:VEVENT
DTSTART;TZID=America/Toronto:20240529T180000
DTEND;TZID=America/Toronto:20240529T213000
DTSTAMP:20260424T174032
CREATED:20240529T032938Z
LAST-MODIFIED:20240529T032938Z
UID:1574-1717005600-1717018200@teqball-quebec.ca
SUMMARY:SHOWCASE - pendant le match de CF Montréal vs DC United
DESCRIPTION:Seance de presentation pour tous les fans de CF Montréal- organisée par Teqball Québec en parteneriat avec CF Montréal pendant le match de CF Montréal vs DC United le 29 mai 2024  de 6.00pm a 9.30pm au Stade Saputo- 4750 Sherbrooke St E\, Montréal\, H1V 3S8
URL:https://teqball-quebec.ca/event/showcase-pendant-le-match-de-cf-montreal-vs-dc-united/
LOCATION:Stade Saputo- 4750 Sherbrooke St E\, Montreal\, H1V 3S8\, 4750 Sherbrooke St E\, Montreal\, QC\, H1V 3S8\, Canada
CATEGORIES:2024,Événements provinciaux
END:VEVENT
BEGIN:VEVENT
DTSTART;TZID=America/Toronto:20240531T153000
DTEND;TZID=America/Toronto:20240531T203000
DTSTAMP:20260424T174032
CREATED:20240529T033923Z
LAST-MODIFIED:20240529T033923Z
UID:1578-1717169400-1717187400@teqball-quebec.ca
SUMMARY:Fête de parc d'arrondissement Ahuntsic-Cartierville/Teqball Entraînement gratuit
DESCRIPTION:Les Jeux de la Rue et Teqball Québec vous invitent a découvrir ce nouveau sport. Séance libre dans le Parc Marcelin Wilson\, 11301 Bd de l’Acadie\, Montréal\, QC H3M 2T1\, où nos tables de Teqball seront présentes. Tentez votre chance ! Venez nous rejoindre\, vous ne le regretterez pas💯%.
URL:https://teqball-quebec.ca/event/fete-de-parc-darrondissement-ahuntsic-cartierville-teqball-entrainement-gratuit/
LOCATION:Parc Marcelin Wilson\, 11301 Bd de l'Acadie\, Montréal\, Quebec\, H3M 2T1\, Canada
CATEGORIES:2024,Événements provinciaux
END:VEVENT
END:VCALENDAR