BEGIN:VCALENDAR
VERSION:2.0
PRODID:-//Teqball Quebec - ECPv6.15.20//NONSGML v1.0//EN
CALSCALE:GREGORIAN
METHOD:PUBLISH
X-ORIGINAL-URL:https://teqball-quebec.ca
X-WR-CALDESC:Événements pour Teqball Quebec
REFRESH-INTERVAL;VALUE=DURATION:PT1H
X-Robots-Tag:noindex
X-PUBLISHED-TTL:PT1H
BEGIN:VTIMEZONE
TZID:America/Toronto
BEGIN:DAYLIGHT
TZOFFSETFROM:-0500
TZOFFSETTO:-0400
TZNAME:EDT
DTSTART:20230312T070000
END:DAYLIGHT
BEGIN:STANDARD
TZOFFSETFROM:-0400
TZOFFSETTO:-0500
TZNAME:EST
DTSTART:20231105T060000
END:STANDARD
BEGIN:DAYLIGHT
TZOFFSETFROM:-0500
TZOFFSETTO:-0400
TZNAME:EDT
DTSTART:20240310T070000
END:DAYLIGHT
BEGIN:STANDARD
TZOFFSETFROM:-0400
TZOFFSETTO:-0500
TZNAME:EST
DTSTART:20241103T060000
END:STANDARD
BEGIN:DAYLIGHT
TZOFFSETFROM:-0500
TZOFFSETTO:-0400
TZNAME:EDT
DTSTART:20250309T070000
END:DAYLIGHT
BEGIN:STANDARD
TZOFFSETFROM:-0400
TZOFFSETTO:-0500
TZNAME:EST
DTSTART:20251102T060000
END:STANDARD
END:VTIMEZONE
BEGIN:VEVENT
DTSTART;TZID=America/Toronto:20240605T180000
DTEND;TZID=America/Toronto:20240605T200000
DTSTAMP:20260424T161110
CREATED:20240603T150218Z
LAST-MODIFIED:20240603T150218Z
UID:1584-1717610400-1717617600@teqball-quebec.ca
SUMMARY:SHOWCASE - Tournée Célébration Soccer BMO organisé par CF Montréal
DESCRIPTION:Teqball Québec sera également présent avec 3 tables de jeu pour une seance de presentation pendant la Tournée Célébration Soccer organisé par CF Montréal pour tous les fans de soccer\, mercredi le 5 juin 2024  de 6.00pm a 8.00pm. Un événement ouvert au public gratuitement. Plus de details ici: https://www.cfmontreal.com/nouvelles/le-cf-montreal-souligne-les-10-ans-de-la-tournee-celebration-soccer-bmo
URL:https://teqball-quebec.ca/event/showcase-tournee-celebration-soccer-bmo-organise-par-cf-montreal/
LOCATION:Parc du Tremblay\, 4250 Boulevard Lévesque O\, Laval\, Quebec\, H7W 2P8\, Canada
CATEGORIES:2024,Événements provinciaux
END:VEVENT
BEGIN:VEVENT
DTSTART;TZID=America/Toronto:20240609T150000
DTEND;TZID=America/Toronto:20240609T170000
DTSTAMP:20260424T161110
CREATED:20240603T152306Z
LAST-MODIFIED:20240603T152306Z
UID:1591-1717945200-1717952400@teqball-quebec.ca
SUMMARY:Pratique de Teqball organisée par Exalt Soccer
DESCRIPTION:Pratique de Teqball organisée par Exalt Soccer au Gymnase Multisport de St Eustache. Pour plus d’informations\, les frais et l’inscription\, veuillez contacter info@exaltsoccer.com ou 438-401-6270.
URL:https://teqball-quebec.ca/event/pratique-de-teqball-organisee-par-exalt-soccer/
LOCATION:Complexe Multisport Saint-Eustache\, 85 Rue Grignon\, Saint-Eustache\, Quebec\, J7P 0C5\, Canada
CATEGORIES:Compétitions,Événements provinciaux
ATTACH;FMTTYPE=image/png:https://teqball-quebec.ca/wp-content/uploads/2023/01/TQ-icon.png
END:VEVENT
BEGIN:VEVENT
DTSTART;TZID=America/Toronto:20240616T100000
DTEND;TZID=America/Toronto:20240616T160000
DTSTAMP:20260424T161110
CREATED:20240603T154246Z
LAST-MODIFIED:20240603T154246Z
UID:1598-1718532000-1718553600@teqball-quebec.ca
SUMMARY:SHOWCASE- Teqball Québec lors du Tournoi de CS Roussilion
DESCRIPTION:Séance de présentation – lors du Tournoi Club Soccer Roussillon organisé par Teqball Québec en partenariat avec le CS Roussillon
URL:https://teqball-quebec.ca/event/showcase-teqball-quebec-lors-du-tournoi-de-cs-roussilion/
LOCATION:Pôle Sportif de Saint-Constant\, 160 Bd Monchamp\, Saint-Constant\, Quebec\, J5A 2K8\, Canada
CATEGORIES:2024,Événements provinciaux
END:VEVENT
END:VCALENDAR