BEGIN:VCALENDAR
VERSION:2.0
PRODID:-//Teqball Quebec - ECPv6.15.20//NONSGML v1.0//EN
CALSCALE:GREGORIAN
METHOD:PUBLISH
X-WR-CALNAME:Teqball Quebec
X-ORIGINAL-URL:https://teqball-quebec.ca
X-WR-CALDESC:Événements pour Teqball Quebec
REFRESH-INTERVAL;VALUE=DURATION:PT1H
X-Robots-Tag:noindex
X-PUBLISHED-TTL:PT1H
BEGIN:VTIMEZONE
TZID:America/Toronto
BEGIN:DAYLIGHT
TZOFFSETFROM:-0500
TZOFFSETTO:-0400
TZNAME:EDT
DTSTART:20230312T070000
END:DAYLIGHT
BEGIN:STANDARD
TZOFFSETFROM:-0400
TZOFFSETTO:-0500
TZNAME:EST
DTSTART:20231105T060000
END:STANDARD
BEGIN:DAYLIGHT
TZOFFSETFROM:-0500
TZOFFSETTO:-0400
TZNAME:EDT
DTSTART:20240310T070000
END:DAYLIGHT
BEGIN:STANDARD
TZOFFSETFROM:-0400
TZOFFSETTO:-0500
TZNAME:EST
DTSTART:20241103T060000
END:STANDARD
BEGIN:DAYLIGHT
TZOFFSETFROM:-0500
TZOFFSETTO:-0400
TZNAME:EDT
DTSTART:20250309T070000
END:DAYLIGHT
BEGIN:STANDARD
TZOFFSETFROM:-0400
TZOFFSETTO:-0500
TZNAME:EST
DTSTART:20251102T060000
END:STANDARD
END:VTIMEZONE
BEGIN:VEVENT
DTSTART;TZID=America/Toronto:20240710T153000
DTEND;TZID=America/Toronto:20240710T203000
DTSTAMP:20260424T144438
CREATED:20240709T112655Z
LAST-MODIFIED:20240709T112655Z
UID:1616-1720625400-1720643400@teqball-quebec.ca
SUMMARY:Fête de rue Villeray-Saint Michel/Plaza Saint Hubert- Teqball séance libre
DESCRIPTION:Les Jeux de la Rue et Teqball Québec vous invitent a découvrir ce nouveau sport. Séance libre a Plaza Saint-Hubert\, 6905 Rue St-Hubert\, Montréal\, QC H2S 2M7\, où nos tables de Teqball seront présentes. Tentez votre chance ! Venez nous rejoindre\, vous ne le regretterez pas💯%.
URL:https://teqball-quebec.ca/event/fete-de-rue-villeray-saint-michel-plaza-saint-hubert-teqball-seance-libre/
LOCATION:Plaza Saint Hubert\, 6905 Rue St-Hubert\, Montreal\, Quebec\, H2S 2M7\, Canada
CATEGORIES:2024,Événements provinciaux
END:VEVENT
BEGIN:VEVENT
DTSTART;TZID=America/Toronto:20240712T103000
DTEND;TZID=America/Toronto:20240712T163000
DTSTAMP:20260424T144438
CREATED:20240709T113232Z
LAST-MODIFIED:20240709T113232Z
UID:1621-1720780200-1720801800@teqball-quebec.ca
SUMMARY:Fête de parc d'arrondissement Ahuntsic-Cartierville/Teqball Entraînement gratuit
DESCRIPTION:Les Jeux de la Rue et Teqball Québec vous invitent a découvrir ce nouveau sport. Séance libre dans le Parc Ahuntsic\, 10555 Rue Lajeunesse\, Montréal\, QC H3L 2E4\, où nos tables de Teqball seront présentes. Tentez votre chance ! Venez nous rejoindre\, vous ne le regretterez pas💯%.
URL:https://teqball-quebec.ca/event/fete-de-parc-darrondissement-ahuntsic-cartierville-teqball-entrainement-gratuit-2/
LOCATION:Parc Ahuntsic\, 10555 Rue Lajeunesse\, Montreal\, Quebec\, H3L 2E4\, Canada
CATEGORIES:2024,Événements provinciaux
END:VEVENT
BEGIN:VEVENT
DTSTART;TZID=America/Toronto:20240713T180000
DTEND;TZID=America/Toronto:20240713T213000
DTSTAMP:20260424T144438
CREATED:20240709T113545Z
LAST-MODIFIED:20240709T113545Z
UID:1626-1720893600-1720906200@teqball-quebec.ca
SUMMARY:SHOWCASE - pendant le match de CF Montréal vs Atlanta
DESCRIPTION:Seance de presentation pour tous les fans de CF Montréal- organisée par Teqball Québec en parteneriat avec CF Montréal pendant le match de CF Montréal vs Atlanta le 13 juillet 2024  de 6.00pm a 9.30pm au Stade Saputo- 4750 Sherbrooke St E\, Montréal\, H1V 3S8
URL:https://teqball-quebec.ca/event/showcase-pendant-le-match-de-cf-montreal-vs-atlanta/
LOCATION:Stade Saputo- 4750 Sherbrooke St E\, Montreal\, H1V 3S8\, 4750 Sherbrooke St E\, Montreal\, QC\, H1V 3S8\, Canada
CATEGORIES:2024,Événements provinciaux
END:VEVENT
BEGIN:VEVENT
DTSTART;TZID=America/Toronto:20240714T090000
DTEND;TZID=America/Toronto:20240714T140000
DTSTAMP:20260424T144438
CREATED:20240702T153424Z
LAST-MODIFIED:20240710T213657Z
UID:1609-1720947600-1720965600@teqball-quebec.ca
SUMMARY:Tournoi TEQBALL Challenge
DESCRIPTION:Êtes-vous TEQ? Tournoi TEQBALL Challenge\nRéservez la date dans votre calendrier : le 14 juillet 2024 ! Teqball Québec en collaboration avec le CS Boucherville\, vous invite à participer à un tournoi! Venez essayer ce nouveau sport avec nous\, montrez-nous vos compétences et amusons-nous ensemble ! Inscription obligatoire sur notre site Internet https://teqball-quebec.ca/inscription-2/ ou par courriel à contact@teqball-quebec.ca! Dépêchez-vous\, les places sont limitées ! Les joueurs doivent avoir 15 ans et plus pour participer au tournoi!\nÉvénements provinciaux\, catégories: \nSimple messieurs\, Double messieurs\, Double dames\, Double mixte \nMerci à notre partenaire:
URL:https://teqball-quebec.ca/event/tournoi-teqball-challenge/
LOCATION:551 Chemin du Lac\, Boucherville\, QC J4B 6X6\, 551 Chem. du Lac\, Boucherville\, QC\, Boucherville\, Quebec\, J4B 6X6\, Canada
CATEGORIES:Compétitions,Événements provinciaux
END:VEVENT
BEGIN:VEVENT
DTSTART;TZID=America/Toronto:20240719T113000
DTEND;TZID=America/Toronto:20240719T170000
DTSTAMP:20260424T144438
CREATED:20240716T180515Z
LAST-MODIFIED:20240716T180515Z
UID:1632-1721388600-1721408400@teqball-quebec.ca
SUMMARY:Fete de parc de l'arrondissment Rosemont PP en collaboration avec Jeux de la Rue
DESCRIPTION:Les Jeux de la Rue et Teqball Québec vous invitent a découvrir ce nouveau sport. Séance libre dans le Parc Étienne-Desmarteau\, Rue Beaubien E\, Montréal\, QC H1X 1P2\, où nos tables de Teqball seront présentes. Tentez votre chance ! Venez nous rejoindre\, vous ne le regretterez pas💯%.
URL:https://teqball-quebec.ca/event/fete-de-parc-de-larrondissment-rosemont-pp-en-collaboration-avec-jeux-de-la-rue/
LOCATION:Parc Étienne-Desmarteau\, Rue Beaubien E\, \, QC\, Montreal\, Quebec\, H1X 1P2\, Canada
CATEGORIES:2024,Événements provinciaux
ORGANIZER;CN="TeqBall Quebec":MAILTO:ioan@digitalleaf.ca
END:VEVENT
BEGIN:VEVENT
DTSTART;TZID=America/Toronto:20240720T180000
DTEND;TZID=America/Toronto:20240720T213000
DTSTAMP:20260424T144438
CREATED:20240716T193015Z
LAST-MODIFIED:20240716T193015Z
UID:1638-1721498400-1721511000@teqball-quebec.ca
SUMMARY:SHOWCASE – pendant le match de CF Montréal vs FC Toronto
DESCRIPTION:Seance de presentation pour tous les fans de CF Montréal- organisée par Teqball Québec en parteneriat avec CF Montréal pendant le match de CF Montréal vs FC Toronto le 20 juillet 2024  de 6.00pm a 9.30pm au Stade Saputo- 4750 Sherbrooke St E\, Montréal\, H1V 3S8
URL:https://teqball-quebec.ca/event/showcase-pendant-le-match-de-cf-montreal-vs-fc-toronto/
LOCATION:Stade Saputo- 4750 Sherbrooke St E\, Montreal\, H1V 3S8\, 4750 Sherbrooke St E\, Montreal\, QC\, H1V 3S8\, Canada
CATEGORIES:2024,Événements provinciaux
ORGANIZER;CN="CF Montreal":MAILTO:info@cfmontreal.com
END:VEVENT
BEGIN:VEVENT
DTSTART;TZID=America/Toronto:20240723T100000
DTEND;TZID=America/Toronto:20240723T150000
DTSTAMP:20260424T144438
CREATED:20240716T194359Z
LAST-MODIFIED:20240716T194359Z
UID:1641-1721728800-1721746800@teqball-quebec.ca
SUMMARY:Showcase pendant LE TOURNOI DES SÉLECTIONS RÉGIONALES 2024- Teqball Québec avec Soccer Québec
DESCRIPTION:Seance de presentation de Teqball Québec pour tous les participants du TOURNOI DES SÉLECTIONS RÉGIONALES 2024- avec Soccer Québec 
URL:https://teqball-quebec.ca/event/showcase-pendant-le-tournoi-des-selections-regionales-2024-teqball-quebec-avec-soccer-quebec/
LOCATION:L’Ecole polyvalente d’Arvida\, 2215 Boulevard Mellon\, Jonquiére\, Quebec\, G7S 3G4\, Canada
CATEGORIES:2024,Événements provinciaux
END:VEVENT
END:VCALENDAR