BEGIN:VCALENDAR
VERSION:2.0
PRODID:-//Teqball Quebec - ECPv6.15.20//NONSGML v1.0//EN
CALSCALE:GREGORIAN
METHOD:PUBLISH
X-WR-CALNAME:Teqball Quebec
X-ORIGINAL-URL:https://teqball-quebec.ca
X-WR-CALDESC:Événements pour Teqball Quebec
REFRESH-INTERVAL;VALUE=DURATION:PT1H
X-Robots-Tag:noindex
X-PUBLISHED-TTL:PT1H
BEGIN:VTIMEZONE
TZID:America/Toronto
BEGIN:DAYLIGHT
TZOFFSETFROM:-0500
TZOFFSETTO:-0400
TZNAME:EDT
DTSTART:20240310T070000
END:DAYLIGHT
BEGIN:STANDARD
TZOFFSETFROM:-0400
TZOFFSETTO:-0500
TZNAME:EST
DTSTART:20241103T060000
END:STANDARD
BEGIN:DAYLIGHT
TZOFFSETFROM:-0500
TZOFFSETTO:-0400
TZNAME:EDT
DTSTART:20250309T070000
END:DAYLIGHT
BEGIN:STANDARD
TZOFFSETFROM:-0400
TZOFFSETTO:-0500
TZNAME:EST
DTSTART:20251102T060000
END:STANDARD
BEGIN:DAYLIGHT
TZOFFSETFROM:-0500
TZOFFSETTO:-0400
TZNAME:EDT
DTSTART:20260308T070000
END:DAYLIGHT
BEGIN:STANDARD
TZOFFSETFROM:-0400
TZOFFSETTO:-0500
TZNAME:EST
DTSTART:20261101T060000
END:STANDARD
END:VTIMEZONE
BEGIN:VEVENT
DTSTART;TZID=America/Toronto:20250105T150000
DTEND;TZID=America/Toronto:20250105T170000
DTSTAMP:20260424T062616
CREATED:20250114T163344Z
LAST-MODIFIED:20250114T163759Z
UID:1717-1736089200-1736096400@teqball-quebec.ca
SUMMARY:Teqball training - Ligue TEQ 14ans et plus
DESCRIPTION:Teqball Québec & Jeux de la Rue vous invite à participer à une séance de pratique de la ligue TEQ\, 14 ans et plus\, dans le gymnase du YMCA Saint Laurent à Montréal\, où nos tables de Teqball seront présentes. Venez vous joindre à nous pour améliorer vos habiletés et aussi nous amuser ensemble!
URL:https://teqball-quebec.ca/event/teqball-training-ligue-teq-14ans-et-plus-2/
LOCATION:YMCA SAINT LAURENT\, 1745 Décarie Street\, Saint-Laurent\, Quebec\, H4L 3N5\, Canada
CATEGORIES:2025,Événements provinciaux
END:VEVENT
BEGIN:VEVENT
DTSTART;TZID=America/Toronto:20250112T150000
DTEND;TZID=America/Toronto:20250112T170000
DTSTAMP:20260424T062616
CREATED:20250114T163509Z
LAST-MODIFIED:20250114T163721Z
UID:1720-1736694000-1736701200@teqball-quebec.ca
SUMMARY:Teqball training - Ligue TEQ 14ans et plus
DESCRIPTION:Teqball Québec & Jeux de la Rue vous invite à participer à une séance de pratique de la ligue TEQ\, 14 ans et plus\, dans le gymnase du YMCA Saint Laurent à Montréal\, où nos tables de Teqball seront présentes. Venez vous joindre à nous pour améliorer vos habiletés et aussi nous amuser ensemble!
URL:https://teqball-quebec.ca/event/teqball-training-ligue-teq-14ans-et-plus-3/
LOCATION:YMCA SAINT LAURENT\, 1745 Décarie Street\, Saint-Laurent\, Quebec\, H4L 3N5\, Canada
CATEGORIES:2025,Événements provinciaux
END:VEVENT
BEGIN:VEVENT
DTSTART;TZID=America/Toronto:20250119T150000
DTEND;TZID=America/Toronto:20250119T170000
DTSTAMP:20260424T062616
CREATED:20250114T163858Z
LAST-MODIFIED:20250114T163858Z
UID:1722-1737298800-1737306000@teqball-quebec.ca
SUMMARY:Teqball training - Ligue TEQ 14ans et plus
DESCRIPTION:Teqball Québec & Jeux de la Rue vous invite à participer à une séance de pratique de la ligue TEQ\, 14 ans et plus\, dans le gymnase du YMCA Saint Laurent à Montréal\, où nos tables de Teqball seront présentes. Venez vous joindre à nous pour améliorer vos habiletés et aussi nous amuser ensemble!
URL:https://teqball-quebec.ca/event/teqball-training-ligue-teq-14ans-et-plus-4/
LOCATION:YMCA SAINT LAURENT\, 1745 Décarie Street\, Saint-Laurent\, Quebec\, H4L 3N5\, Canada
CATEGORIES:2025,Événements provinciaux
END:VEVENT
BEGIN:VEVENT
DTSTART;TZID=America/Toronto:20250126T150000
DTEND;TZID=America/Toronto:20250126T170000
DTSTAMP:20260424T062616
CREATED:20250114T163958Z
LAST-MODIFIED:20250114T163958Z
UID:1724-1737903600-1737910800@teqball-quebec.ca
SUMMARY:Teqball training - Ligue TEQ 14ans et plus
DESCRIPTION:Teqball Québec & Jeux de la Rue vous invite à participer à une séance de pratique de la ligue TEQ\, 14 ans et plus\, dans le gymnase du YMCA Saint Laurent à Montréal\, où nos tables de Teqball seront présentes. Venez vous joindre à nous pour améliorer vos habiletés et aussi nous amuser ensemble!
URL:https://teqball-quebec.ca/event/teqball-training-ligue-teq-14ans-et-plus-5/
LOCATION:YMCA SAINT LAURENT\, 1745 Décarie Street\, Saint-Laurent\, Quebec\, H4L 3N5\, Canada
CATEGORIES:2025,Événements provinciaux
END:VEVENT
END:VCALENDAR